BEGIN:VCALENDAR
VERSION:2.0
PRODID:-//Centro de psicología Althea - ECPv6.7.0//NONSGML v1.0//EN
CALSCALE:GREGORIAN
METHOD:PUBLISH
X-WR-CALNAME:Centro de psicología Althea
X-ORIGINAL-URL:https://centropsicologiaalthea.com
X-WR-CALDESC:Eventos para Centro de psicología Althea
REFRESH-INTERVAL;VALUE=DURATION:PT1H
X-Robots-Tag:noindex
X-PUBLISHED-TTL:PT1H
BEGIN:VTIMEZONE
TZID:Europe/Madrid
BEGIN:DAYLIGHT
TZOFFSETFROM:+0100
TZOFFSETTO:+0200
TZNAME:CEST
DTSTART:20260329T010000
END:DAYLIGHT
BEGIN:STANDARD
TZOFFSETFROM:+0200
TZOFFSETTO:+0100
TZNAME:CET
DTSTART:20261025T010000
END:STANDARD
END:VTIMEZONE
BEGIN:VEVENT
DTSTART;TZID=Europe/Madrid:20260424T180000
DTEND;TZID=Europe/Madrid:20260426T170000
DTSTAMP:20260423T103313
CREATED:20260320T142753Z
LAST-MODIFIED:20260320T144138Z
UID:3467-1777053600-1777222800@centropsicologiaalthea.com
SUMMARY:TALLER DE ECOPSICOLOGÍA: ECODANCE (Cuerpo Psicoterrático: Danzando las emociones de Gaia)
DESCRIPTION:Para inscribirte puede rellenar el siguiente FORMULARIO DE INSCRIPCIÓN ECODANCE
URL:https://centropsicologiaalthea.com/event/taller-de-ecopsicologia-ecodance-cuerpo-psicoterratico-danzando-las-emociones-de-gaia/
LOCATION:Atalanta\, La Pereda\, LLanes\, ASTURIAS\, La pereda\, Llanes\, Asturias\, Spain
ATTACH;FMTTYPE=image/jpeg:https://centropsicologiaalthea.com/wp-content/uploads/2026/03/ECODANCE-Espacio-Atalanta-Asturias-2.jpg
END:VEVENT
BEGIN:VEVENT
DTSTART;VALUE=DATE:20260523
DTEND;VALUE=DATE:20260524
DTSTAMP:20260423T103313
CREATED:20260116T101927Z
LAST-MODIFIED:20260121T183150Z
UID:3451-1779494400-1779580799@centropsicologiaalthea.com
SUMMARY:Taller laboratorio sobre las Relaciones: Cuidado\, deseo y conflicto
DESCRIPTION:Esta propuesta tiene como elemento central y vertebrador el concepto del encuentro. Un espacio para explorar cómo nuestro yo individual y colectivo se muestran y relacionan en el encuentro con las demás personas. La comunicación\, la gestión emocional\, los límites\, el deseo\, la escucha\, el placer…serán algunas de las cuestiones que exploraremos. \nEste taller laboratorio es un espacio para \, a través del cuerpo\, la reflexión y el juego atender cuestiones tan cotidianas como las relaciones con una misma y con las demás. ¿Cómo cuido mis relaciones y qué necesito para sentirme cuidada en ellas? ¿Cuándo me muestro vulnerable? ¿Conozco\, expreso y comunico mis deseos? ¿Y mis inquietudes o miedos? ¿Cómo me relaciono con el placer? ¿Y con el conflicto? ¿Y con el cuidado?» \nCuando: sábado 23 de mayo \nDonde: El Bosquecillo (si hace mal tiempo lo trasladaremos a Althea) \nHorario: de 10:00-20:00 con parada para comer y descansos a la mañana y a la tarde. \nPrecio: la aportación económica del taller es entre 30-60 euros. Hemos querido crear esta horquilla para que el taller sea accesible y que cada persona decida cuánto dinero puede y quiere aportar según su situación vital y personal. El pago puede hacerse a través de BIZUM al número de teléfono 610744413 o a través de transferencia bancaria al número de cuenta: ES40 1550 0001 2200 1261 3923 \nFacilitan: Ederra Zabala\, Eneko García y Magda López\, impulsoras del proyecto bi·hotz elkartea. \nSi te quieres inscribir puedes hacerlo en el siguiente formulario: https://forms.gle/cQMYaqRBYYRt7hrM9
URL:https://centropsicologiaalthea.com/event/taller-laboratorio-sobre-las-relaciones-cuidado-deseo-y-conflicto/
LOCATION:Lamadrid\, Valdáliga\, Cantabria\, 39593 Lamadrid\, Lamadrid\, Cantabria\, 39593\, España
ATTACH;FMTTYPE=image/jpeg:https://centropsicologiaalthea.com/wp-content/uploads/2026/01/WhatsApp-Image-2026-01-14-at-20.11.01.jpeg
END:VEVENT
BEGIN:VEVENT
DTSTART;TZID=Europe/Madrid:20260619T160000
DTEND;TZID=Europe/Madrid:20260621T180000
DTSTAMP:20260423T103313
CREATED:20260116T101021Z
LAST-MODIFIED:20260121T180250Z
UID:3446-1781884800-1782064800@centropsicologiaalthea.com
SUMMARY:Taller de Ecología Profunda: el trabajo que reconecta de Johana Macy
DESCRIPTION:  \n \nSi te quieres inscribir puedes hacerlo en el siguiente enlace: https://forms.gle/qRowQd9DpWhkQBZA6
URL:https://centropsicologiaalthea.com/event/taller-de-ecologia-profunda-el-trabajo-que-reconecta-de-johana-macy/
LOCATION:Lamadrid\, Valdáliga\, Cantabria\, 39593 Lamadrid\, Lamadrid\, Cantabria\, 39593\, España
ATTACH;FMTTYPE=image/png:https://centropsicologiaalthea.com/wp-content/uploads/2026/01/1-1.png
END:VEVENT
BEGIN:VEVENT
DTSTART;TZID=Europe/Madrid:20260626T170000
DTEND;TZID=Europe/Madrid:20260628T160000
DTSTAMP:20260423T103313
CREATED:20260115T085618Z
LAST-MODIFIED:20260121T181954Z
UID:3418-1782493200-1782662400@centropsicologiaalthea.com
SUMMARY:Taller residencial de Teatro\, Terapia y Trauma en Arterra Bizimodu (Navarra)
DESCRIPTION:
URL:https://centropsicologiaalthea.com/event/taller-residencial-de-teatro-terapia-y-trauma-en-arterra-bizimodu-navarra/
LOCATION:Arterra Bizimodu\, Artieda\, Navarra\, Spain
ATTACH;FMTTYPE=image/jpeg:https://centropsicologiaalthea.com/wp-content/uploads/2026/01/cartel-arterra-1.jpg
END:VEVENT
BEGIN:VEVENT
DTSTART;TZID=Europe/Madrid:20260720T170000
DTEND;TZID=Europe/Madrid:20260726T140000
DTSTAMP:20260423T103313
CREATED:20250127T094848Z
LAST-MODIFIED:20260121T182307Z
UID:3303-1784566800-1785074400@centropsicologiaalthea.com
SUMMARY:CALEIDOSCOPIO DE VERANO ´26    (7ª edición)
DESCRIPTION:  \n \n\n \n \n  \n¿CÓMO RESERVAR TU PLAZA? \nPara reservar tu plaza registra tu inscripción a través de este enlace. \n\nRESERVA AQUÍ AHORA!\n  \nUna vez que recibamos tu solicitud nos pondremos en contacto contigo para una entrevista gratuita. \nLas plazas son limitadas por cuestión de espacio y para poder proporcionar una atención personalizada a las personas participantes. \nSolo contamos con 16 plazas que serán reservadas por orden de inscripción.  \nPara que tu reserva sea efectiva has de hacer la entrevista gratuita\, rellenar un formulario de inscripción y hacer el ingreso de la reserva. \nLa reserva no se devolverá a no ser que haya tiempo suficiente para poder cubrir esa plaza\, o a menos que haya una causa justificada como una enfermedad o accidente que impidan la participación al taller. \nPara cualquier duda puedes ponerte en contacto con nosotras a través del teléfono 660852243 o el email psicologiaalthea@gmail.com. \nDeseamos que esta información haya sido de tu interés. \nTe mandamos un cálido abrazo. \nClara y Blanka.
URL:https://centropsicologiaalthea.com/event/caleidoscopio-de-verano-25-6a-edicion/
LOCATION:Lamadrid\, Valdáliga\, Cantabria\, 39593 Lamadrid\, Lamadrid\, Cantabria\, 39593\, España
ATTACH;FMTTYPE=image/jpeg:https://centropsicologiaalthea.com/wp-content/uploads/2025/01/1-1.jpg
END:VEVENT
BEGIN:VEVENT
DTSTART;TZID=Europe/Madrid:20260904T160000
DTEND;TZID=Europe/Madrid:20260906T160000
DTSTAMP:20260423T103313
CREATED:20260116T093857Z
LAST-MODIFIED:20260121T181133Z
UID:3428-1788537600-1788710400@centropsicologiaalthea.com
SUMMARY:Taller de Teatro\, Terapia y Trauma en Atalanta (Asturias)
DESCRIPTION:Puedes hacer tu inscripción en el siguiente formulario: https://forms.gle/VufaCrHCWTzLxQj17
URL:https://centropsicologiaalthea.com/event/taller-de-teatro-terapia-y-trauma-en-atalanta-asturias/
LOCATION:Atalanta\, La pereda\, Llanes\, Asturias\, Spain
ATTACH;FMTTYPE=image/jpeg:https://centropsicologiaalthea.com/wp-content/uploads/2026/01/1-8.jpg
END:VEVENT
BEGIN:VEVENT
DTSTART;TZID=Europe/Madrid:20261023T160000
DTEND;TZID=Europe/Madrid:20261025T140000
DTSTAMP:20260423T103313
CREATED:20260116T093049Z
LAST-MODIFIED:20260116T122217Z
UID:3424-1792771200-1792936800@centropsicologiaalthea.com
SUMMARY:Taller sobre la Muerte
DESCRIPTION:Si te quieres inscribir puedes hacerlo en el siguiente enlace: https://forms.gle/yRoGqTvcummZTXBV7
URL:https://centropsicologiaalthea.com/event/taller-sobre-la-muerte/
LOCATION:Centro de Psicología Althea\, Calle José María Pereda\, Torrelavega\, Cantabria\, 39300\, España
ATTACH;FMTTYPE=image/jpeg:https://centropsicologiaalthea.com/wp-content/uploads/2026/01/cartel-sobre-la-muerte.jpg
END:VEVENT
BEGIN:VEVENT
DTSTART;TZID=Europe/Madrid:20261204T160000
DTEND;TZID=Europe/Madrid:20261206T140000
DTSTAMP:20260423T103313
CREATED:20260116T095636Z
LAST-MODIFIED:20260116T101329Z
UID:3434-1796400000-1796565600@centropsicologiaalthea.com
SUMMARY:Taller de Teatro\, Terapia y Trauma en Aleces (Sant Cugat\, Barcelona)
DESCRIPTION:
URL:https://centropsicologiaalthea.com/event/taller-de-teatro-terapia-y-trauma-en-aleces-sant-cugat-barcelona/
LOCATION:Aleces\, Sant Cugat\, Barcelona\, Spain
ATTACH;FMTTYPE=image/jpeg:https://centropsicologiaalthea.com/wp-content/uploads/2026/01/cartel-caleido-aleces-1.jpg
END:VEVENT
END:VCALENDAR